BEGIN:VCALENDAR
VERSION:2.0
PRODID:-//Gift of Life Donor Program - Saving Lives Through Organ Donation - ECPv6.15.19//NONSGML v1.0//EN
CALSCALE:GREGORIAN
METHOD:PUBLISH
X-ORIGINAL-URL:https://www.donors1.org
X-WR-CALDESC:Events for Gift of Life Donor Program - Saving Lives Through Organ Donation
REFRESH-INTERVAL;VALUE=DURATION:PT1H
X-Robots-Tag:noindex
X-PUBLISHED-TTL:PT1H
BEGIN:VTIMEZONE
TZID:America/New_York
BEGIN:DAYLIGHT
TZOFFSETFROM:-0500
TZOFFSETTO:-0400
TZNAME:EDT
DTSTART:20210314T070000
END:DAYLIGHT
BEGIN:STANDARD
TZOFFSETFROM:-0400
TZOFFSETTO:-0500
TZNAME:EST
DTSTART:20211107T060000
END:STANDARD
BEGIN:DAYLIGHT
TZOFFSETFROM:-0500
TZOFFSETTO:-0400
TZNAME:EDT
DTSTART:20220313T070000
END:DAYLIGHT
BEGIN:STANDARD
TZOFFSETFROM:-0400
TZOFFSETTO:-0500
TZNAME:EST
DTSTART:20221106T060000
END:STANDARD
BEGIN:DAYLIGHT
TZOFFSETFROM:-0500
TZOFFSETTO:-0400
TZNAME:EDT
DTSTART:20230312T070000
END:DAYLIGHT
BEGIN:STANDARD
TZOFFSETFROM:-0400
TZOFFSETTO:-0500
TZNAME:EST
DTSTART:20231105T060000
END:STANDARD
END:VTIMEZONE
BEGIN:VEVENT
DTSTART;TZID=America/New_York:20220922T080000
DTEND;TZID=America/New_York:20220922T160000
DTSTAMP:20260423T071532
CREATED:20220502T150923Z
LAST-MODIFIED:20220720T123613Z
UID:14698-1663833600-1663862400@www.donors1.org
SUMMARY:Donation Champion Learning Session (Atlantic City\, NJ)
DESCRIPTION:Gift of Life Donor Program has developed a full-day learning session to train and equip healthcare providers who are interested in improving their hospital’s organ donation systems. This one-day workshop is a fast-paced and highly interactive session. Participants are asked to assess their unit’s/hospital’s current donation processes and are charged with “Leaving in Action” so that a collaborative and coordinated effort is in place for offering families the opportunity for donation. CLICK HERE to register for the September 22\, 2022 session in Atlantic City\, NJ.
URL:https://www.donors1.org/event/donation-champion-learning-session-atlantic-city-nj/
LOCATION:Bally’s Atlantic City\, 1900 Pacific Avenue\, Atlantic City\, New Jersey\, 08401\, United States
ATTACH;FMTTYPE=image/png:https://www.donors1.org/wp-content/uploads/2022/05/Sept.-22-in-Atlantic-City.png
ORGANIZER;CN="Gift of Life Donor Program":MAILTO:info@donors1.org
END:VEVENT
BEGIN:VEVENT
DTSTART;TZID=America/New_York:20220922T080000
DTEND;TZID=America/New_York:20220924T170000
DTSTAMP:20260423T071532
CREATED:20220829T152027Z
LAST-MODIFIED:20220829T152029Z
UID:14948-1663833600-1664038800@www.donors1.org
SUMMARY:New Day Interfaith Fellowship and Ministries - Holy Convocation
DESCRIPTION:Greater St. Matthew Baptist Church is hosting this multi-day program\, a recipient of Donor are Heroes’ “It’s About Life” grant.
URL:https://www.donors1.org/event/new-day-interfaith-fellowship-and-ministries/
LOCATION:Greater St. Matthew Baptist Church\, 1538 Wingohocking street\, Philadelphia\, Pennsylvania\, 19140\, United States
ORGANIZER;CN="Gift of Life Donor Program":MAILTO:info@donors1.org
END:VEVENT
END:VCALENDAR