BEGIN:VCALENDAR
VERSION:2.0
PRODID:-//Gift of Life Donor Program - Saving Lives Through Organ Donation - ECPv6.15.19//NONSGML v1.0//EN
CALSCALE:GREGORIAN
METHOD:PUBLISH
X-ORIGINAL-URL:https://www.donors1.org
X-WR-CALDESC:Events for Gift of Life Donor Program - Saving Lives Through Organ Donation
REFRESH-INTERVAL;VALUE=DURATION:PT1H
X-Robots-Tag:noindex
X-PUBLISHED-TTL:PT1H
BEGIN:VTIMEZONE
TZID:America/New_York
BEGIN:DAYLIGHT
TZOFFSETFROM:-0500
TZOFFSETTO:-0400
TZNAME:EDT
DTSTART:20210314T070000
END:DAYLIGHT
BEGIN:STANDARD
TZOFFSETFROM:-0400
TZOFFSETTO:-0500
TZNAME:EST
DTSTART:20211107T060000
END:STANDARD
BEGIN:DAYLIGHT
TZOFFSETFROM:-0500
TZOFFSETTO:-0400
TZNAME:EDT
DTSTART:20220313T070000
END:DAYLIGHT
BEGIN:STANDARD
TZOFFSETFROM:-0400
TZOFFSETTO:-0500
TZNAME:EST
DTSTART:20221106T060000
END:STANDARD
BEGIN:DAYLIGHT
TZOFFSETFROM:-0500
TZOFFSETTO:-0400
TZNAME:EDT
DTSTART:20230312T070000
END:DAYLIGHT
BEGIN:STANDARD
TZOFFSETFROM:-0400
TZOFFSETTO:-0500
TZNAME:EST
DTSTART:20231105T060000
END:STANDARD
END:VTIMEZONE
BEGIN:VEVENT
DTSTART;TZID=America/New_York:20220815T090000
DTEND;TZID=America/New_York:20220819T153000
DTSTAMP:20260421T082326
CREATED:20220613T161957Z
LAST-MODIFIED:20220613T162117Z
UID:14792-1660554000-1660923000@www.donors1.org
SUMMARY:Camp Jeremy Summer Camp
DESCRIPTION:Join Gift of Life this August for Camp Jeremy. The camp is open to transplant recipients and their siblings ages 5-16. \n\n\n\nCampers get to participate in fun activities like archery\, low ropes climbing\, swimming\, music\, cooking\, crafts and more! The camp will follow CDC and Department of Health guidelines.  \n\n\n\nMake sure to sign up by July 22 for this week of fun and games! For more information and to register\, contact Karen Keener at KKeener@donors1.org or 267-421-7485. \n\n\n\nCamp Jeremy 2017
URL:https://www.donors1.org/event/camp-jeremy-summer-camp/
LOCATION:Pennsylvania
ATTACH;FMTTYPE=image/jpeg:https://www.donors1.org/wp-content/uploads/2020/02/Camp-Jeremy-Group-Pic-compressed.jpg
ORGANIZER;CN="Gift of Life Donor Program":MAILTO:info@donors1.org
END:VEVENT
END:VCALENDAR